BEGIN:VCALENDAR
VERSION:2.0
PRODID:-//East Coast Watercross - ECPv6.15.20//NONSGML v1.0//EN
CALSCALE:GREGORIAN
METHOD:PUBLISH
X-WR-CALNAME:East Coast Watercross
X-ORIGINAL-URL:https://eastcoastwatercross.com
X-WR-CALDESC:Events for East Coast Watercross
REFRESH-INTERVAL;VALUE=DURATION:PT1H
X-Robots-Tag:noindex
X-PUBLISHED-TTL:PT1H
BEGIN:VTIMEZONE
TZID:America/New_York
BEGIN:DAYLIGHT
TZOFFSETFROM:-0500
TZOFFSETTO:-0400
TZNAME:EDT
DTSTART:20170312T070000
END:DAYLIGHT
BEGIN:STANDARD
TZOFFSETFROM:-0400
TZOFFSETTO:-0500
TZNAME:EST
DTSTART:20171105T060000
END:STANDARD
BEGIN:DAYLIGHT
TZOFFSETFROM:-0500
TZOFFSETTO:-0400
TZNAME:EDT
DTSTART:20180311T070000
END:DAYLIGHT
BEGIN:STANDARD
TZOFFSETFROM:-0400
TZOFFSETTO:-0500
TZNAME:EST
DTSTART:20181104T060000
END:STANDARD
BEGIN:DAYLIGHT
TZOFFSETFROM:-0500
TZOFFSETTO:-0400
TZNAME:EDT
DTSTART:20190310T070000
END:DAYLIGHT
BEGIN:STANDARD
TZOFFSETFROM:-0400
TZOFFSETTO:-0500
TZNAME:EST
DTSTART:20191103T060000
END:STANDARD
BEGIN:DAYLIGHT
TZOFFSETFROM:-0500
TZOFFSETTO:-0400
TZNAME:EDT
DTSTART:20200308T070000
END:DAYLIGHT
BEGIN:STANDARD
TZOFFSETFROM:-0400
TZOFFSETTO:-0500
TZNAME:EST
DTSTART:20201101T060000
END:STANDARD
END:VTIMEZONE
BEGIN:VTIMEZONE
TZID:UTC
BEGIN:STANDARD
TZOFFSETFROM:+0000
TZOFFSETTO:+0000
TZNAME:UTC
DTSTART:20170101T000000
END:STANDARD
END:VTIMEZONE
BEGIN:VEVENT
DTSTART;VALUE=DATE:20190728
DTEND;VALUE=DATE:20190730
DTSTAMP:20260424T231925
CREATED:20190718T032923Z
LAST-MODIFIED:20190719T232356Z
UID:1444-1564272000-1564444799@eastcoastwatercross.com
SUMMARY:2019 East Coast Watercross Tour Rd 5 & 6 / IJSBA National Championship
DESCRIPTION:Join us for Rd’s 5 & 6 of the 2019 Tour and the IJSBA National Championship
URL:https://eastcoastwatercross.com/event/2019-east-coast-watercross-tour-rd-5-6-ijsba-national-championship/
LOCATION:Crete Center Plattsburgh NY\, 2 Beach Road\, Plattsburgh\, NY\, 12901\, United States
ORGANIZER;CN="East Coast Watercross LLC":MAILTO:info@eastcoastwatercross.com
END:VEVENT
BEGIN:VEVENT
DTSTART;VALUE=DATE:20190622
DTEND;VALUE=DATE:20190624
DTSTAMP:20260424T231925
CREATED:20190610T214916Z
LAST-MODIFIED:20190611T222725Z
UID:1419-1561161600-1561334399@eastcoastwatercross.com
SUMMARY:2019 East Coast Watercross Tour Rds 3 & 4
DESCRIPTION:Join us for Rounds 3 & 4 of the 2019 Tour!
URL:https://eastcoastwatercross.com/event/2019-east-coast-watercross-tour-rds-3-4/
LOCATION:Sylvan Beach\, New York\, Sunset Ave\, Sylvan Beach\, 13308\, United States
ORGANIZER;CN="East Coast Watercross LLC":MAILTO:info@eastcoastwatercross.com
END:VEVENT
BEGIN:VEVENT
DTSTART;VALUE=DATE:20190601
DTEND;VALUE=DATE:20190603
DTSTAMP:20260424T231925
CREATED:20190517T234342Z
LAST-MODIFIED:20190518T013428Z
UID:1411-1559347200-1559519999@eastcoastwatercross.com
SUMMARY:2019 East Coast Watercross Tour Rds 1&2
DESCRIPTION:The 2019 East Coast Watercross Tour opening weekend in Webster Ma!
URL:https://eastcoastwatercross.com/event/2019-east-coast-watercross-tour-rds-12/
LOCATION:Memorial Beach\, Memorial Beach Dr\, Webster\, MA\, 01570\, United States
ORGANIZER;CN="East Coast Watercross LLC":MAILTO:info@eastcoastwatercross.com
END:VEVENT
BEGIN:VEVENT
DTSTART;TZID=America/New_York:20180908T080000
DTEND;TZID=America/New_York:20180909T170000
DTSTAMP:20260424T231925
CREATED:20180901T141558Z
LAST-MODIFIED:20180901T143711Z
UID:1377-1536393600-1536512400@eastcoastwatercross.com
SUMMARY:2018 Tour Championship Webster Ma
DESCRIPTION:2018 East Coast Watercross Tour Championship Weekend!
URL:https://eastcoastwatercross.com/event/2018-tour-championship-webster-ma/
LOCATION:Memorial Beach\, Memorial Beach Dr\, Webster\, MA\, 01570\, United States
ORGANIZER;CN="East Coast Watercross LLC":MAILTO:info@eastcoastwatercross.com
END:VEVENT
BEGIN:VEVENT
DTSTART;TZID=America/New_York:20180825T073000
DTEND;TZID=America/New_York:20180826T190000
DTSTAMP:20260424T231925
CREATED:20180809T205341Z
LAST-MODIFIED:20180820T211742Z
UID:1360-1535182200-1535310000@eastcoastwatercross.com
SUMMARY:US National Championship Plattsburgh NY
DESCRIPTION:2018 Tour Stops 7 & 8 – US National Championship
URL:https://eastcoastwatercross.com/event/us-national-championship-watkins-glen-ny/
LOCATION:4 Beach Rd Plattsburgh NY 12901\, 4 Beach Road\, Plattsburgh\, NY\, 12901\, United States
ORGANIZER;CN="East Coast Watercross LLC":MAILTO:info@eastcoastwatercross.com
END:VEVENT
BEGIN:VEVENT
DTSTART;TZID=America/New_York:20180728T080000
DTEND;TZID=America/New_York:20180729T190000
DTSTAMP:20260424T231925
CREATED:20180709T212446Z
LAST-MODIFIED:20180709T213202Z
UID:1341-1532764800-1532890800@eastcoastwatercross.com
SUMMARY:Rds 5 /6  July 28th and 29th Plattsburgh\, NY
DESCRIPTION:Rounds 5&6 of the 2018 East Coast Watercross Tour
URL:https://eastcoastwatercross.com/event/rds-5-6-plattsburgh-ny-july-28th-and-29th/
LOCATION:Crete Center Plattsburgh NY\, 2 Beach Road\, Plattsburgh\, NY\, 12901\, United States
ORGANIZER;CN="East Coast Watercross LLC":MAILTO:info@eastcoastwatercross.com
END:VEVENT
BEGIN:VEVENT
DTSTART;TZID=UTC:20180630T070000
DTEND;TZID=UTC:20180701T180000
DTSTAMP:20260424T231925
CREATED:20180604T235229Z
LAST-MODIFIED:20180709T212545Z
UID:1328-1530342000-1530468000@eastcoastwatercross.com
SUMMARY:Rd 3 & 4 June 30th & July 1st Sylvan Beach\, NY
DESCRIPTION:Rounds 3 & 4 of the 2018 East Coast Watercross Tour
URL:https://eastcoastwatercross.com/event/rs-3-4-sylvan-beach-ny/
LOCATION:Sylvan Beach\, New York\, Sunset Ave\, Sylvan Beach\, 13308\, United States
ORGANIZER;CN="East Coast Watercross LLC":MAILTO:info@eastcoastwatercross.com
END:VEVENT
BEGIN:VEVENT
DTSTART;TZID=UTC:20180519T073000
DTEND;TZID=UTC:20180520T170000
DTSTAMP:20260424T231925
CREATED:20180508T185055Z
LAST-MODIFIED:20180517T231017Z
UID:1285-1526715000-1526835600@eastcoastwatercross.com
SUMMARY:Rounds 1 and 2 May 19th and May 20th 2018 in Niantic CT
DESCRIPTION:Click above to register! \n  \n  \n  \n 
URL:https://eastcoastwatercross.com/event/round-1_2-2018-niantic-ct/
LOCATION:Cini Memorial Beach\, 1 River Rd\, Niantic\, CT\, 06357\, United States
ORGANIZER;CN="East Coast Watercross LLC":MAILTO:info@eastcoastwatercross.com
END:VEVENT
END:VCALENDAR