BEGIN:VCALENDAR
VERSION:2.0
PRODID:-//East Coast Watercross - ECPv6.15.20//NONSGML v1.0//EN
CALSCALE:GREGORIAN
METHOD:PUBLISH
X-WR-CALNAME:East Coast Watercross
X-ORIGINAL-URL:https://eastcoastwatercross.com
X-WR-CALDESC:Events for East Coast Watercross
REFRESH-INTERVAL;VALUE=DURATION:PT1H
X-Robots-Tag:noindex
X-PUBLISHED-TTL:PT1H
BEGIN:VTIMEZONE
TZID:America/New_York
BEGIN:DAYLIGHT
TZOFFSETFROM:-0500
TZOFFSETTO:-0400
TZNAME:EDT
DTSTART:20170312T070000
END:DAYLIGHT
BEGIN:STANDARD
TZOFFSETFROM:-0400
TZOFFSETTO:-0500
TZNAME:EST
DTSTART:20171105T060000
END:STANDARD
BEGIN:DAYLIGHT
TZOFFSETFROM:-0500
TZOFFSETTO:-0400
TZNAME:EDT
DTSTART:20180311T070000
END:DAYLIGHT
BEGIN:STANDARD
TZOFFSETFROM:-0400
TZOFFSETTO:-0500
TZNAME:EST
DTSTART:20181104T060000
END:STANDARD
BEGIN:DAYLIGHT
TZOFFSETFROM:-0500
TZOFFSETTO:-0400
TZNAME:EDT
DTSTART:20190310T070000
END:DAYLIGHT
BEGIN:STANDARD
TZOFFSETFROM:-0400
TZOFFSETTO:-0500
TZNAME:EST
DTSTART:20191103T060000
END:STANDARD
BEGIN:DAYLIGHT
TZOFFSETFROM:-0500
TZOFFSETTO:-0400
TZNAME:EDT
DTSTART:20200308T070000
END:DAYLIGHT
BEGIN:STANDARD
TZOFFSETFROM:-0400
TZOFFSETTO:-0500
TZNAME:EST
DTSTART:20201101T060000
END:STANDARD
BEGIN:DAYLIGHT
TZOFFSETFROM:-0500
TZOFFSETTO:-0400
TZNAME:EDT
DTSTART:20210314T070000
END:DAYLIGHT
BEGIN:STANDARD
TZOFFSETFROM:-0400
TZOFFSETTO:-0500
TZNAME:EST
DTSTART:20211107T060000
END:STANDARD
BEGIN:DAYLIGHT
TZOFFSETFROM:-0500
TZOFFSETTO:-0400
TZNAME:EDT
DTSTART:20220313T070000
END:DAYLIGHT
BEGIN:STANDARD
TZOFFSETFROM:-0400
TZOFFSETTO:-0500
TZNAME:EST
DTSTART:20221106T060000
END:STANDARD
BEGIN:DAYLIGHT
TZOFFSETFROM:-0500
TZOFFSETTO:-0400
TZNAME:EDT
DTSTART:20230312T070000
END:DAYLIGHT
BEGIN:STANDARD
TZOFFSETFROM:-0400
TZOFFSETTO:-0500
TZNAME:EST
DTSTART:20231105T060000
END:STANDARD
END:VTIMEZONE
BEGIN:VTIMEZONE
TZID:UTC
BEGIN:STANDARD
TZOFFSETFROM:+0000
TZOFFSETTO:+0000
TZNAME:UTC
DTSTART:20170101T000000
END:STANDARD
END:VTIMEZONE
BEGIN:VEVENT
DTSTART;VALUE=DATE:20220827
DTEND;VALUE=DATE:20220829
DTSTAMP:20260424T232622
CREATED:20220816T014825Z
LAST-MODIFIED:20220816T014825Z
UID:1714-1661558400-1661731199@eastcoastwatercross.com
SUMMARY:2022 The Freedom Tour Rds 7&8 Watkins Glen\, NY
DESCRIPTION:Welcome to Pre Registration for our Watkins Glen event\, Rounds 7&8! As always discounted pre registrations are non refundable or transferable. \n 
URL:https://eastcoastwatercross.com/event/2022-the-freedom-tour-rds-78-watkins-glen-ny/
LOCATION:Clute Memorial Park\, Watkins Glen NY\, 155 S. Clute Park Dr\, Watkins Glen\, NY\, 14891\, United States
ORGANIZER;CN="East Coast Watercross LLC":MAILTO:info@eastcoastwatercross.com
END:VEVENT
BEGIN:VEVENT
DTSTART;VALUE=DATE:20220730
DTEND;VALUE=DATE:20220801
DTSTAMP:20260424T232622
CREATED:20220720T170536Z
LAST-MODIFIED:20220720T173255Z
UID:1696-1659139200-1659311999@eastcoastwatercross.com
SUMMARY:2022 IJSBA National Championship /RDs 5&6  East Coast Watercross Tour
DESCRIPTION:Welcome to Pre Registration for our Rounds 5&6 and IJSBA National Championship in Plattsburgh NY! As always pre registrations are non-refundable and/or non-transferable \n  \nPlease note: We will offer Junior+ classes for Rd 5&6 however they will not be able to be included in National Championship Titles or Awards
URL:https://eastcoastwatercross.com/event/2022-ijsba-national-championship-rds-56-east-coast-watercross-tour/
LOCATION:4 Beach Rd Plattsburgh NY 12901\, 4 Beach Road\, Plattsburgh\, NY\, 12901\, United States
ORGANIZER;CN="East Coast Watercross LLC":MAILTO:info@eastcoastwatercross.com
END:VEVENT
BEGIN:VEVENT
DTSTART;VALUE=DATE:20220611
DTEND;VALUE=DATE:20220613
DTSTAMP:20260424T232622
CREATED:20220531T162835Z
LAST-MODIFIED:20220531T164223Z
UID:1679-1654905600-1655078399@eastcoastwatercross.com
SUMMARY:Pre Reg 2022 The Freedom Tour Rds 3&4 Sylvan Beach
DESCRIPTION:Welcome to Pre Registration for our Freedom Tour Rounds 3 & 4 in Sylvan Beach! As always discounted pre registrations are non refundable or transferable.
URL:https://eastcoastwatercross.com/event/2022-the-freedom-tour-rds-34-sylvan-beach/
LOCATION:Sylvan Beach\, New York\, Sunset Ave\, Sylvan Beach\, 13308\, United States
ORGANIZER;CN="East Coast Watercross LLC":MAILTO:info@eastcoastwatercross.com
END:VEVENT
BEGIN:VEVENT
DTSTART;VALUE=DATE:20220521
DTEND;VALUE=DATE:20220523
DTSTAMP:20260424T232622
CREATED:20220510T155948Z
LAST-MODIFIED:20220518T110116Z
UID:1664-1653091200-1653263999@eastcoastwatercross.com
SUMMARY:2022 East Coast Watercross Tour Rds 1&2 Webster Ma.
DESCRIPTION:Welcome to Pre Registration for our 2022 Webster Ma event\, Rounds 1 & 2! As always discounted pre registrations are non refundable or transferable.
URL:https://eastcoastwatercross.com/event/2022-east-coast-watercross-tour-rds-12-webster-ma/
LOCATION:Memorial Beach Webster Ma\, 10 Memorial Beach\, Webster\, MA\, 01570
ORGANIZER;CN="East Coast Watercross LLC":MAILTO:info@eastcoastwatercross.com
END:VEVENT
BEGIN:VEVENT
DTSTART;TZID=America/New_York:20210911T073000
DTEND;TZID=America/New_York:20210912T180000
DTSTAMP:20260424T232622
CREATED:20210902T151624Z
LAST-MODIFIED:20210902T151624Z
UID:1644-1631345400-1631469600@eastcoastwatercross.com
SUMMARY:2021 Tour Championship Weekend! Sylvan Beach\, NY Sept. 11 &12th
DESCRIPTION:Welcome to Pre Registration for our Sylvan Beach\, NY event\, Rounds 9&10 of the 2021 Throwback Tour! This is also our Tour Championship weekend\, however if you haven’t competed this season\, do not let that stop you from coming and racing this weekend only!  As always discounted pre registrations are non refundable or transferable. \nPlease note\, we are running an X2/X4 Mash up… 2 racers will partner and switch classes\, racer on borrowed ski can not have competed in that class in the prior 2 ECW tours. Ie X4 racer swaps for X2\, this racer can not have competed in an X2 race in the last two tours. The entry fee is $85\, 2 racers for 1 entry. The registration software can not seperate it per day so we had to put the cost at $42.5 per day to work around that. Select that class\, for a total of $85 and you will be the last racing classes of the weekend( to ensure racers can compete in their tour championship classes first). If you do this please complete the text box with info about the other racer at the bottom of the form.  If this is too complicated\, please just register on site for the same price! \n  \nWe are also running (3)Junior+ aka Biggie Smalls classes. This is intended to be a development class\, where a mentor will be on course with the racer. Ie Junior+ Ski Lite\, parent on class appropriate machine ( ski class) and son/daughter on their own class appropriate machine (ski). The idea is the mentor can be on the course to assist the new racer with the format. Each machine style class will run separately. Please use the text box at the bottom of the form to provide info on the “smalls” \nQuestions? Please email info@eastcoastwatercross.com
URL:https://eastcoastwatercross.com/event/2021-tour-championship-weekend-sylvan-beach-ny-sept-11-12th/
LOCATION:Sylvan Beach\, New York\, Sunset Ave\, Sylvan Beach\, 13308\, United States
ORGANIZER;CN="East Coast Watercross LLC":MAILTO:info@eastcoastwatercross.com
END:VEVENT
BEGIN:VEVENT
DTSTART;TZID=America/New_York:20210821T073000
DTEND;TZID=America/New_York:20210822T190000
DTSTAMP:20260424T232622
CREATED:20210812T145021Z
LAST-MODIFIED:20210812T145021Z
UID:1628-1629531000-1629658800@eastcoastwatercross.com
SUMMARY:Rounds 7&8 2021 East Coast Watercross Tour - Watkins
DESCRIPTION:Welcome to Pre Registration for our Watkins event\, Rounds 7&8! As always discounted pre registrations are non refundable or transferable.
URL:https://eastcoastwatercross.com/event/rounds-78-2021-east-coast-watercross-tour-watkins/
LOCATION:Clute Memorial Park\, Watkins Glen NY\, 155 S. Clute Park Dr\, Watkins Glen\, NY\, 14891\, United States
ORGANIZER;CN="East Coast Watercross LLC":MAILTO:info@eastcoastwatercross.com
END:VEVENT
BEGIN:VEVENT
DTSTART;TZID=America/New_York:20210731T080000
DTEND;TZID=America/New_York:20210801T180000
DTSTAMP:20260424T232622
CREATED:20210707T150540Z
LAST-MODIFIED:20210707T150540Z
UID:1599-1627718400-1627840800@eastcoastwatercross.com
SUMMARY:East Coast Watercross 2021 Rd 5 & RD6 + IJSBA NATIONAL CHAMPIONSHIP
DESCRIPTION:Welcome to Pre Registrations for the 2021 IJSBA National Championship and Rds 5 & Rds 6 of the East Coast Watercross Tour! \nAs always\, Pre registrations are non refundable and non transferable. Registration is also available on site without the early registration discounts.
URL:https://eastcoastwatercross.com/event/east-coast-watercross-2021-rd-5-rd6-ijsba-national-championship/
LOCATION:4 Beach Rd Plattsburgh NY 12901\, 4 Beach Road\, Plattsburgh\, NY\, 12901\, United States
ORGANIZER;CN="East Coast Watercross LLC":MAILTO:info@eastcoastwatercross.com
END:VEVENT
BEGIN:VEVENT
DTSTART;TZID=America/New_York:20210626T080000
DTEND;TZID=America/New_York:20210627T190000
DTSTAMP:20260424T232622
CREATED:20210610T153822Z
LAST-MODIFIED:20210611T134816Z
UID:1564-1624694400-1624820400@eastcoastwatercross.com
SUMMARY:2021 East Coast Watercross Tour-Rounds 3 & 4 -
DESCRIPTION:Welcome to the Rounds 3&4 Pre registration! \nThis event will be in Waddington\, NY June 26th and 27th 2021 \nEvent info will be in your confirmation email\, and as always\, pre registrations are non refundable.
URL:https://eastcoastwatercross.com/event/rounds-3-4-2021-east-coast-watercross-tour/
LOCATION:Waddington Town Beach\, 356 River Rd\, Waddington\, NY\, 13694\, United States
ORGANIZER;CN="East Coast Watercross LLC":MAILTO:info@eastcoastwatercross.com
END:VEVENT
BEGIN:VEVENT
DTSTART;TZID=America/New_York:20210605T073000
DTEND;TZID=America/New_York:20210606T180000
DTSTAMP:20260424T232622
CREATED:20210514T191428Z
LAST-MODIFIED:20210518T155041Z
UID:1539-1622878200-1623002400@eastcoastwatercross.com
SUMMARY:2021 East Coast Watercross Tour Rds 1 & 2 Webster Ma
DESCRIPTION:
URL:https://eastcoastwatercross.com/event/2021-east-coast-watercross-tour-rds-1-2-webster-ma/
LOCATION:Memorial Beach Webster Ma\, 10 Memorial Beach\, Webster\, MA\, 01570
ORGANIZER;CN="East Coast Watercross LLC":MAILTO:info@eastcoastwatercross.com
END:VEVENT
BEGIN:VEVENT
DTSTART;VALUE=DATE:20190824
DTEND;VALUE=DATE:20190826
DTSTAMP:20260424T232622
CREATED:20190813T130428Z
LAST-MODIFIED:20190822T015428Z
UID:1477-1566604800-1566777599@eastcoastwatercross.com
SUMMARY:2019 East Coast Watercross Rd 7&8 Tour Championship Weekend
DESCRIPTION:Join us for our 2019 Tour Championship Weekend in Watkins Glen!
URL:https://eastcoastwatercross.com/event/2019-east-coast-watercross-rd-78-tour-championship-weekend/
LOCATION:Clute Memorial Park\, Watkins Glen NY\, 155 S. Clute Park Dr\, Watkins Glen\, NY\, 14891\, United States
ORGANIZER;CN="East Coast Watercross LLC":MAILTO:info@eastcoastwatercross.com
END:VEVENT
BEGIN:VEVENT
DTSTART;VALUE=DATE:20190728
DTEND;VALUE=DATE:20190730
DTSTAMP:20260424T232622
CREATED:20190718T032923Z
LAST-MODIFIED:20190719T232356Z
UID:1444-1564272000-1564444799@eastcoastwatercross.com
SUMMARY:2019 East Coast Watercross Tour Rd 5 & 6 / IJSBA National Championship
DESCRIPTION:Join us for Rd’s 5 & 6 of the 2019 Tour and the IJSBA National Championship
URL:https://eastcoastwatercross.com/event/2019-east-coast-watercross-tour-rd-5-6-ijsba-national-championship/
LOCATION:Crete Center Plattsburgh NY\, 2 Beach Road\, Plattsburgh\, NY\, 12901\, United States
ORGANIZER;CN="East Coast Watercross LLC":MAILTO:info@eastcoastwatercross.com
END:VEVENT
BEGIN:VEVENT
DTSTART;VALUE=DATE:20190622
DTEND;VALUE=DATE:20190624
DTSTAMP:20260424T232622
CREATED:20190610T214916Z
LAST-MODIFIED:20190611T222725Z
UID:1419-1561161600-1561334399@eastcoastwatercross.com
SUMMARY:2019 East Coast Watercross Tour Rds 3 & 4
DESCRIPTION:Join us for Rounds 3 & 4 of the 2019 Tour!
URL:https://eastcoastwatercross.com/event/2019-east-coast-watercross-tour-rds-3-4/
LOCATION:Sylvan Beach\, New York\, Sunset Ave\, Sylvan Beach\, 13308\, United States
ORGANIZER;CN="East Coast Watercross LLC":MAILTO:info@eastcoastwatercross.com
END:VEVENT
BEGIN:VEVENT
DTSTART;VALUE=DATE:20190601
DTEND;VALUE=DATE:20190603
DTSTAMP:20260424T232622
CREATED:20190517T234342Z
LAST-MODIFIED:20190518T013428Z
UID:1411-1559347200-1559519999@eastcoastwatercross.com
SUMMARY:2019 East Coast Watercross Tour Rds 1&2
DESCRIPTION:The 2019 East Coast Watercross Tour opening weekend in Webster Ma!
URL:https://eastcoastwatercross.com/event/2019-east-coast-watercross-tour-rds-12/
LOCATION:Memorial Beach\, Memorial Beach Dr\, Webster\, MA\, 01570\, United States
ORGANIZER;CN="East Coast Watercross LLC":MAILTO:info@eastcoastwatercross.com
END:VEVENT
BEGIN:VEVENT
DTSTART;TZID=America/New_York:20180908T080000
DTEND;TZID=America/New_York:20180909T170000
DTSTAMP:20260424T232622
CREATED:20180901T141558Z
LAST-MODIFIED:20180901T143711Z
UID:1377-1536393600-1536512400@eastcoastwatercross.com
SUMMARY:2018 Tour Championship Webster Ma
DESCRIPTION:2018 East Coast Watercross Tour Championship Weekend!
URL:https://eastcoastwatercross.com/event/2018-tour-championship-webster-ma/
LOCATION:Memorial Beach\, Memorial Beach Dr\, Webster\, MA\, 01570\, United States
ORGANIZER;CN="East Coast Watercross LLC":MAILTO:info@eastcoastwatercross.com
END:VEVENT
BEGIN:VEVENT
DTSTART;TZID=America/New_York:20180825T073000
DTEND;TZID=America/New_York:20180826T190000
DTSTAMP:20260424T232622
CREATED:20180809T205341Z
LAST-MODIFIED:20180820T211742Z
UID:1360-1535182200-1535310000@eastcoastwatercross.com
SUMMARY:US National Championship Plattsburgh NY
DESCRIPTION:2018 Tour Stops 7 & 8 – US National Championship
URL:https://eastcoastwatercross.com/event/us-national-championship-watkins-glen-ny/
LOCATION:4 Beach Rd Plattsburgh NY 12901\, 4 Beach Road\, Plattsburgh\, NY\, 12901\, United States
ORGANIZER;CN="East Coast Watercross LLC":MAILTO:info@eastcoastwatercross.com
END:VEVENT
BEGIN:VEVENT
DTSTART;TZID=America/New_York:20180728T080000
DTEND;TZID=America/New_York:20180729T190000
DTSTAMP:20260424T232622
CREATED:20180709T212446Z
LAST-MODIFIED:20180709T213202Z
UID:1341-1532764800-1532890800@eastcoastwatercross.com
SUMMARY:Rds 5 /6  July 28th and 29th Plattsburgh\, NY
DESCRIPTION:Rounds 5&6 of the 2018 East Coast Watercross Tour
URL:https://eastcoastwatercross.com/event/rds-5-6-plattsburgh-ny-july-28th-and-29th/
LOCATION:Crete Center Plattsburgh NY\, 2 Beach Road\, Plattsburgh\, NY\, 12901\, United States
ORGANIZER;CN="East Coast Watercross LLC":MAILTO:info@eastcoastwatercross.com
END:VEVENT
BEGIN:VEVENT
DTSTART;TZID=UTC:20180630T070000
DTEND;TZID=UTC:20180701T180000
DTSTAMP:20260424T232622
CREATED:20180604T235229Z
LAST-MODIFIED:20180709T212545Z
UID:1328-1530342000-1530468000@eastcoastwatercross.com
SUMMARY:Rd 3 & 4 June 30th & July 1st Sylvan Beach\, NY
DESCRIPTION:Rounds 3 & 4 of the 2018 East Coast Watercross Tour
URL:https://eastcoastwatercross.com/event/rs-3-4-sylvan-beach-ny/
LOCATION:Sylvan Beach\, New York\, Sunset Ave\, Sylvan Beach\, 13308\, United States
ORGANIZER;CN="East Coast Watercross LLC":MAILTO:info@eastcoastwatercross.com
END:VEVENT
BEGIN:VEVENT
DTSTART;TZID=UTC:20180519T073000
DTEND;TZID=UTC:20180520T170000
DTSTAMP:20260424T232622
CREATED:20180508T185055Z
LAST-MODIFIED:20180517T231017Z
UID:1285-1526715000-1526835600@eastcoastwatercross.com
SUMMARY:Rounds 1 and 2 May 19th and May 20th 2018 in Niantic CT
DESCRIPTION:Click above to register! \n  \n  \n  \n 
URL:https://eastcoastwatercross.com/event/round-1_2-2018-niantic-ct/
LOCATION:Cini Memorial Beach\, 1 River Rd\, Niantic\, CT\, 06357\, United States
ORGANIZER;CN="East Coast Watercross LLC":MAILTO:info@eastcoastwatercross.com
END:VEVENT
END:VCALENDAR